BEGIN:VCALENDAR
VERSION:2.0
PRODID:-//Stadtjubiläum Radolfzell - ECPv6.15.14//NONSGML v1.0//EN
CALSCALE:GREGORIAN
METHOD:PUBLISH
X-ORIGINAL-URL:https://radolfzell1200.de/ar/
X-WR-CALDESC:Events for Stadtjubiläum Radolfzell
REFRESH-INTERVAL;VALUE=DURATION:PT1H
X-Robots-Tag:noindex
X-PUBLISHED-TTL:PT1H
BEGIN:VTIMEZONE
TZID:Europe/Berlin
BEGIN:DAYLIGHT
TZOFFSETFROM:+0100
TZOFFSETTO:+0200
TZNAME:CEST
DTSTART:20250330T010000
END:DAYLIGHT
BEGIN:STANDARD
TZOFFSETFROM:+0200
TZOFFSETTO:+0100
TZNAME:CET
DTSTART:20251026T010000
END:STANDARD
BEGIN:DAYLIGHT
TZOFFSETFROM:+0100
TZOFFSETTO:+0200
TZNAME:CEST
DTSTART:20260329T010000
END:DAYLIGHT
BEGIN:STANDARD
TZOFFSETFROM:+0200
TZOFFSETTO:+0100
TZNAME:CET
DTSTART:20261025T010000
END:STANDARD
BEGIN:DAYLIGHT
TZOFFSETFROM:+0100
TZOFFSETTO:+0200
TZNAME:CEST
DTSTART:20270328T010000
END:DAYLIGHT
BEGIN:STANDARD
TZOFFSETFROM:+0200
TZOFFSETTO:+0100
TZNAME:CET
DTSTART:20271031T010000
END:STANDARD
END:VTIMEZONE
BEGIN:VEVENT
DTSTART;TZID=Europe/Berlin:20260626T000000
DTEND;TZID=Europe/Berlin:20260626T000000
DTSTAMP:20260419T184336
CREATED:20260121T180606Z
LAST-MODIFIED:20260121T180606Z
UID:15825-1782432000-1782432000@radolfzell1200.de
SUMMARY:العرض العالمي الأول للعمل "مودي رادولفي سيلاي
DESCRIPTION:تم تأليف مجموعة سيمفونية تم تأليفها خصيصًا للاحتفال بالذكرى السنوية للمدينة عام 2026، حيث تم إحياء الحياة النابضة بالحياة في رادولفزيل في العصور الوسطى في خمس حركات. يتم تتبع كل من المشاهد العلمانية والكنسية حول الكاتدرائية – من صخب السوق إلى احتفالات الملاك – بالصوت.في العرض الأول للمقطوعة التي تبلغ مدتها 15 دقيقة، سيرافق المقطوعة التي تبلغ مدتها 15 دقيقة فيلم أنتجه خصيصًا للحركات الفردية مخرج أفلام رادولفزيل غونتر كولر، والذي يؤكد بشكل مثير للإعجاب على الزخارف التاريخية. سيقام العرض الأول كجزء من حفل موسيقي في السوق لفرقة مدينة رادولفزيل أمام الكاتدرائية.
URL:https://radolfzell1200.de/ar/veranstaltung/%d8%a7%d9%84%d8%b9%d8%b1%d8%b6-%d8%a7%d9%84%d8%b9%d8%a7%d9%84%d9%85%d9%8a-%d8%a7%d9%84%d8%a3%d9%88%d9%84-%d9%84%d9%84%d8%b9%d9%85%d9%84-%d9%85%d9%88%d8%af%d9%8a-%d8%b1%d8%a7%d8%af%d9%88%d9%84%d9%81/
ATTACH;FMTTYPE=image/jpeg:https://radolfzell1200.de/wp-content/uploads/sites/17/2026/04/event-9f22e684-9c8c-484a-8c58-fdaefa84bac6-11.jpg
END:VEVENT
BEGIN:VEVENT
DTSTART;TZID=Europe/Berlin:20260626T170000
DTEND;TZID=Europe/Berlin:20260627T230000
DTSTAMP:20260419T184336
CREATED:20260121T180722Z
LAST-MODIFIED:20260305T161139Z
UID:15880-1782493200-1782601200@radolfzell1200.de
SUMMARY:مهرجان قلعة موغينج
DESCRIPTION:في عطلة نهاية الأسبوع الأخير من شهر يونيو، ستكون ساحة القلعة في القلعة ذات الخندق في موغينغن مكانًا لمهرجان القلعة، حيث سيتم تنظيم مهرجان القلعة في نهاية الأسبوع الأخير من شهر يونيو، وذلك استكمالاً للعروض الأسطورية في الهواء الطلق في فترة ما بعد الحرب، والتي كان من أبرز معالمها عرض عام 1960 في احتفالات الذكرى السنوية الـ 1\,200. وقد تم إحياء هذا التقليد من خلال “الأميرة الهندية” في احتفالات الذكرى السنوية الـ 1\,250 لمهرجان موغينغن في عام 2010 و”عرض الشطرنج الحي” في عام 2017 في ساحة قرية موغينغن.  تسلط مسرحية هذا العام الضوء، من بين أمور أخرى، على إيواء الضباط الفرنسيين في القلعة، ومشاركة أفراد من سكان موغينج في الحركة الاشتراكية الوطنية، والصراعات الشخصية أثناء الاحتلال واستمرار الأفكار اليمينية المتطرفة حتى يومنا هذا. ومع ذلك، فإن عنوان مسرحية هذا العام “ألبينل داس شلوسجسبنست” (ألبينل شبح القلعة) يوحي بأنها لن تكون مجرد أشياء جادة. فبالإضافة إلى العرض المسرحي، سيكون هناك عروض ترفيهية موسيقية بعد ذلك: فرقة “Alläfänzigä” من إميندينجن في 26 يونيو وفرقة “ساوند كيتشن” في 27 يونيو. ويكتمل البرنامج بفترة ما بعد الظهيرة للأطفال يوم السبت، وأكشاك الطعام والشراب (“Möggingen kocht”) وإضاءة القلعة في نهاية كل عرض.
URL:https://radolfzell1200.de/ar/veranstaltung/%d9%85%d9%87%d8%b1%d8%ac%d8%a7%d9%86-%d9%82%d9%84%d8%b9%d8%a9-%d9%85%d9%88%d8%ba%d9%8a%d9%86%d8%ac/
LOCATION:Möggingen\, St.-Gallus-Straße 6\, Radolfzell am Bodensee\, 78315
ATTACH;FMTTYPE=image/jpeg:https://radolfzell1200.de/wp-content/uploads/sites/17/2026/03/event-9f2324ee-1358-44e0-b83f-aa3f541c5eff.jpg
END:VEVENT
BEGIN:VEVENT
DTSTART;TZID=Europe/Berlin:20260626T170000
DTEND;TZID=Europe/Berlin:20260627T230000
DTSTAMP:20260419T184336
CREATED:20260317T145009Z
LAST-MODIFIED:20260317T145009Z
UID:24155-1782493200-1782601200@radolfzell1200.de
SUMMARY:مهرجان قلعة موغينج
DESCRIPTION:في عطلة نهاية الأسبوع الأخير من شهر يونيو، ستكون ساحة القلعة في القلعة ذات الخندق في موغينغن مكانًا لمهرجان القلعة، حيث سيتم تنظيم مهرجان القلعة في نهاية الأسبوع الأخير من شهر يونيو، وذلك استكمالاً للعروض الأسطورية في الهواء الطلق في فترة ما بعد الحرب، والتي كان من أبرز معالمها عرض عام 1960 في احتفالات الذكرى السنوية الـ 1\,200. وقد تم إحياء هذا التقليد من خلال “الأميرة الهندية” في احتفالات الذكرى السنوية الـ 1\,250 لمهرجان موغينغن في عام 2010 و”عرض الشطرنج الحي” في عام 2017 في ساحة قرية موغينغن.  تسلط مسرحية هذا العام الضوء، من بين أمور أخرى، على إيواء الضباط الفرنسيين في القلعة، ومشاركة أفراد من سكان موغينج في الحركة الاشتراكية الوطنية، والصراعات الشخصية أثناء الاحتلال واستمرار الأفكار اليمينية المتطرفة حتى يومنا هذا. ومع ذلك، فإن عنوان مسرحية هذا العام “ألبينل داس شلوسجسبنست” (ألبينل شبح القلعة) يوحي بأنها لن تكون مجرد أشياء جادة. فبالإضافة إلى العرض المسرحي، سيكون هناك عروض ترفيهية موسيقية بعد ذلك: فرقة “Alläfänzigä” من إميندينجن في 26 يونيو وفرقة “ساوند كيتشن” في 27 يونيو. ويكتمل البرنامج بفترة ما بعد الظهيرة للأطفال يوم السبت، وأكشاك الطعام والشراب (“Möggingen kocht”) وإضاءة القلعة في نهاية كل عرض.
URL:https://radolfzell1200.de/ar/veranstaltung/%d9%85%d9%87%d8%b1%d8%ac%d8%a7%d9%86-%d9%82%d9%84%d8%b9%d8%a9-%d9%85%d9%88%d8%ba%d9%8a%d9%86%d8%ac-2/
LOCATION:Möggingen\, St.-Gallus-Straße 6\, Radolfzell am Bodensee\, 78315
ATTACH;FMTTYPE=image/jpeg:https://radolfzell1200.de/wp-content/uploads/sites/17/2026/04/event-9f2324ee-1358-44e0-b83f-aa3f541c5eff-10.jpg
END:VEVENT
BEGIN:VEVENT
DTSTART;TZID=Europe/Berlin:20260717T000000
DTEND;TZID=Europe/Berlin:20260717T000000
DTSTAMP:20260419T184336
CREATED:20260121T180755Z
LAST-MODIFIED:20260121T180755Z
UID:15906-1784246400-1784246400@radolfzell1200.de
SUMMARY:تجمع المدينة لمراكز الرعاية النهارية في رادولفزيل
DESCRIPTION:تنظم مراكز الرعاية النهارية الكاثوليكية في رادولفزيل، بالتعاون مع متجر سيهند للأطفال ودار حضانة سيبفيردشن، راليًا في المدينة حيث يمكن للأطفال والآباء والأمهات استكشاف وسط المدينة بطريقة ممتعة. تجمع العائلات الطوابع في عدة محطات في وسط المدينة بمساعدة بطاقات الجري. يحصل أولئك الذين يكملون الحد الأدنى من المحطات على قسيمة آيس كريم كجائزة، والتي يمكن استبدالها في مهرجان هاوشرنفيست. يمكن لجميع العائلات المهتمة المشاركة.
URL:https://radolfzell1200.de/ar/veranstaltung/%d8%aa%d8%ac%d9%85%d8%b9-%d8%a7%d9%84%d9%85%d8%af%d9%8a%d9%86%d8%a9-%d9%84%d9%85%d8%b1%d8%a7%d9%83%d8%b2-%d8%a7%d9%84%d8%b1%d8%b9%d8%a7%d9%8a%d8%a9-%d8%a7%d9%84%d9%86%d9%87%d8%a7%d8%b1%d9%8a%d8%a9/
LOCATION:Radolfzell am Bodensee
ATTACH;FMTTYPE=image/jpeg:https://radolfzell1200.de/wp-content/uploads/sites/17/2026/04/event-9f2332cb-9151-4afc-bf24-4705fa69fa4d-11.jpg
END:VEVENT
BEGIN:VEVENT
DTSTART;TZID=Europe/Berlin:20260724T180000
DTEND;TZID=Europe/Berlin:20260724T235900
DTSTAMP:20260419T184336
CREATED:20260121T180646Z
LAST-MODIFIED:20260121T180706Z
UID:15860-1784916000-1784937540@radolfzell1200.de
SUMMARY:بحيرة كونستانس يدق
DESCRIPTION:بودينسي-بيتس هو مفهوم جديد لحدث الشباب روك آم سيجل. \nيقدم هذا الحدث مسرحًا للفرق الموسيقية الإقليمية ومنسقي الأغاني وغيرهم، وهو مصمم خصيصًا للشباب من رادولفزيل. وقد ترسّخ مهرجان روك أم سيجل، المعروف الآن باسم “بودينسي-بيتس”، في ثقافة مهرجان رادولفزيل لأكثر من 27 عامًا.  \n  كما سيجعل هذا الحدث حدثاً مميزاً للشباب خلال الذكرى السنوية للمدينة. ومن خلال تنظيم الفعالية الخاصة بهم، سيخلق الشباب أيضًا رابطًا جذابًا للذكرى السنوية للمدينة.  \nمكاتب الحجز المسبق:كافيه كونيكت، مركز المعلومات السياحية
URL:https://radolfzell1200.de/ar/veranstaltung/%d8%a8%d8%ad%d9%8a%d8%b1%d8%a9-%d9%83%d9%88%d9%86%d8%b3%d8%aa%d8%a7%d9%86%d8%b3-%d9%8a%d8%af%d9%82/
LOCATION:شراع الحفلة رادولفزيل\, كارل وولف شتراسه 1\, رادولفزيل على بحيرة كونستانس\, 78315
ATTACH;FMTTYPE=image/jpeg:https://radolfzell1200.de/wp-content/uploads/sites/17/2026/04/event-9f22f243-621c-47b9-bab2-f92d0ffa9fab-11.jpg
END:VEVENT
BEGIN:VEVENT
DTSTART;TZID=Europe/Berlin:20260910T140000
DTEND;TZID=Europe/Berlin:20260910T160000
DTSTAMP:20260419T184336
CREATED:20260121T180744Z
LAST-MODIFIED:20260127T132221Z
UID:15896-1789048800-1789056000@radolfzell1200.de
SUMMARY:إنشاء مركز للرعاية النهارية في رادولفزيل: اكتشف المدينة والوصول معاً
DESCRIPTION:مشروع مجتمعي لمركز رادولفزيل للرعاية النهارية.   \nيدعو مقهى الآباء المفتوح كجزء من مشروع “Kita-Einstieg Radolfzell” الآباء وأطفالهم بحرارة إلى أمسية خاصة: في جو مريح، يمكن للعائلات الاستمتاع بفنجان من الشاي أو القهوة والتحدث إلىبينما يلعب الأطفال ويجرون أول اتصالاتهم.هناك حدث مميز خاص ينتظر المشاركين فيبعد ذلك – جولة إرشادية صديقة للطفل فيرادولفزيل. حيث يذهبون معًا في رحلة استكشافية عبرالبلدة القديمة التاريخية، ويستكشفون الأماكن المميزة ويختبرونالمناطق المحيطة بعيون جديدة. يخلق البرنامجمساحة للقاءات والتوجيه والمجتمع – خطوة لطيفةلطيفة نحو العائلات التي تصل إلى رادولفزيل.   \nالتسجيل بحلول 31.08.26 إلى kita-einstieg@web.de(بحد أقصى 25 مشاركاً) \nالمشاركة مجانية.
URL:https://radolfzell1200.de/ar/veranstaltung/%d8%a5%d9%86%d8%b4%d8%a7%d8%a1-%d9%85%d8%b1%d9%83%d8%b2-%d9%84%d9%84%d8%b1%d8%b9%d8%a7%d9%8a%d8%a9-%d8%a7%d9%84%d9%86%d9%87%d8%a7%d8%b1%d9%8a%d8%a9-%d9%81%d9%8a-%d8%b1%d8%a7%d8%af%d9%88%d9%84%d9%81/
ATTACH;FMTTYPE=image/png:https://radolfzell1200.de/wp-content/uploads/sites/17/2026/04/event-9f232eef-2ff7-4ced-9f20-62a74a7d26b4-11.png
END:VEVENT
BEGIN:VEVENT
DTSTART;TZID=Europe/Berlin:20261017T200000
DTEND;TZID=Europe/Berlin:20261018T200000
DTSTAMP:20260419T184336
CREATED:20260121T180619Z
LAST-MODIFIED:20260121T180641Z
UID:15835-1792267200-1792353600@radolfzell1200.de
SUMMARY:الإيقاع مع الأكورديون
DESCRIPTION:هناك عرض موسيقي مميز خاص بالذكرى السنوية:   \nتتضافر جهود أوركسترا الأكورديون في رادولفزيل وفرقة الإيقاع التابعة لمدرسة رادولفزيل للموسيقى لتقديم عمل موسيقي مؤلف حديثًا يومي 17 و18 أكتوبر في القاعة الصغيرة في ميلشويرك.   \nينصب التركيز على التاريخ والثقافة والتنمية: \n” فرقتان موسيقيتان ناجحتان من عالم موسيقى رادولفزيل تقدمان عرضاً موسيقياً مشتركاً. \n” يختبر الموسيقيون والجمهور الموسيقى خارج آفاقهم الخاصة. \n” يتجلى الإبداع واللقاءات والتبادل الثقافي في حفل موسيقي فريد من نوعه. \nحفل موسيقي مليء بالتنوع الصوتي والإيقاع والجسور الثقافية!
URL:https://radolfzell1200.de/ar/veranstaltung/%d8%a7%d9%84%d8%a5%d9%8a%d9%82%d8%a7%d8%b9-%d9%85%d8%b9-%d8%a7%d9%84%d8%a3%d9%83%d9%88%d8%b1%d8%af%d9%8a%d9%88%d9%86/
LOCATION:Milchwerk Radolfzell Tagung:Kultur:Messe\, Werner-Messmer-Straße 14\, Radolfzell am Bodensee\, 78315
ATTACH;FMTTYPE=image/jpeg:https://radolfzell1200.de/wp-content/uploads/sites/17/2026/04/event-9f22ea75-2037-428d-865b-3e9c0bc9543b-11.jpg
END:VEVENT
END:VCALENDAR