BEGIN:VCALENDAR
VERSION:2.0
PRODID:-//Stadtjubiläum Radolfzell - ECPv6.15.14//NONSGML v1.0//EN
CALSCALE:GREGORIAN
METHOD:PUBLISH
X-WR-CALNAME:Stadtjubiläum Radolfzell
X-ORIGINAL-URL:https://radolfzell1200.de/ar/
X-WR-CALDESC:Events for Stadtjubiläum Radolfzell
REFRESH-INTERVAL;VALUE=DURATION:PT1H
X-Robots-Tag:noindex
X-PUBLISHED-TTL:PT1H
BEGIN:VTIMEZONE
TZID:Europe/Berlin
BEGIN:DAYLIGHT
TZOFFSETFROM:+0100
TZOFFSETTO:+0200
TZNAME:CEST
DTSTART:20250330T010000
END:DAYLIGHT
BEGIN:STANDARD
TZOFFSETFROM:+0200
TZOFFSETTO:+0100
TZNAME:CET
DTSTART:20251026T010000
END:STANDARD
BEGIN:DAYLIGHT
TZOFFSETFROM:+0100
TZOFFSETTO:+0200
TZNAME:CEST
DTSTART:20260329T010000
END:DAYLIGHT
BEGIN:STANDARD
TZOFFSETFROM:+0200
TZOFFSETTO:+0100
TZNAME:CET
DTSTART:20261025T010000
END:STANDARD
BEGIN:DAYLIGHT
TZOFFSETFROM:+0100
TZOFFSETTO:+0200
TZNAME:CEST
DTSTART:20270328T010000
END:DAYLIGHT
BEGIN:STANDARD
TZOFFSETFROM:+0200
TZOFFSETTO:+0100
TZNAME:CET
DTSTART:20271031T010000
END:STANDARD
END:VTIMEZONE
BEGIN:VEVENT
DTSTART;TZID=Europe/Berlin:20260717T000100
DTEND;TZID=Europe/Berlin:20260720T235900
DTSTAMP:20260425T182327
CREATED:20260121T200021Z
LAST-MODIFIED:20260403T062121Z
UID:16253-1784246460-1784591940@radolfzell1200.de
SUMMARY:حفلة منزلية
DESCRIPTION:يعود تاريخ مهرجان هاوشرنفيست إلى أكثر من 300 عام من التقاليد: يتم الاحتفال به كل عام في يوم الأحد الثالث من شهر يوليو منذ عام 1725.   \nترجع أصول المهرجان إلى تبجيل القديسين ثيوبونت وسينيسيوس وزينو، الذين كانت آثارهم محفوظة في رادولفزيل منذ القرنين التاسع والحادي عشر. ونتيجة لذلك، تطورت المدينة في وقت مبكر لتصبح مركزًا مهمًا للحج على بحيرة كونستانس. واليوم، يعد مهرجان هاوشرنفيست جزءًا لا يتجزأ من حياة المدينة ويعزز الشعور بالوطن والمجتمع. يعود الكثير من الناس من رادولفزيل إلى بلدتهم الأصلية لحضور هذا الحدث. وبالإضافة إلى الاحتفالات العلمانية، يظل الموكب الرسمي في هاوشرنسونتاج مع رفات القديسين الثلاثة أهم ما يميز هذا الحدث. وهناك عادة خاصة هي موكب الماء في موس، والذي يعود تاريخه إلى نذر تم قطعه في عام 1796. في ذلك الوقت، طلب سكان موس الحماية من طاعون الماشية في رادولفزيل. ومنذ عام 1926، وهم يقومون برحلة حج سنوية عبر البحيرة في قوارب مزينة بالورود في يوم اثنين الرب. يتم الترحيب بالحجاج بشكل احتفالي في رادولفزيل ويتم اصطحابهم إلى كنيسة السيدة العذراء.
URL:https://radolfzell1200.de/ar/veranstaltung/%d8%ad%d9%81%d9%84%d8%a9-%d9%85%d9%86%d8%b2%d9%84%d9%8a%d8%a9/
LOCATION:Radolfzell am Bodensee
ATTACH;FMTTYPE=image/jpeg:https://radolfzell1200.de/wp-content/uploads/sites/17/2026/04/event-a01c2c63-088f-4917-910c-0ce9beb5d5cc-12.jpg
END:VEVENT
BEGIN:VEVENT
DTSTART;TZID=Europe/Berlin:20260717T000100
DTEND;TZID=Europe/Berlin:20260720T235900
DTSTAMP:20260425T182327
CREATED:20260422T225128Z
LAST-MODIFIED:20260423T212252Z
UID:33199-1784246460-1784591940@radolfzell1200.de
SUMMARY:حفلة منزلية
DESCRIPTION:يعود تاريخ مهرجان هاوشرنفيست إلى أكثر من 300 عام من التقاليد: يتم الاحتفال به كل عام في يوم الأحد الثالث من شهر يوليو منذ عام 1725.   \nترجع أصول المهرجان إلى تبجيل القديسين ثيوبونت وسينيسيوس وزينو، الذين كانت آثارهم محفوظة في رادولفزيل منذ القرنين التاسع والحادي عشر. ونتيجة لذلك، تطورت المدينة في وقت مبكر لتصبح مركزًا مهمًا للحج على بحيرة كونستانس. واليوم، يعد مهرجان هاوشرنفيست جزءًا لا يتجزأ من حياة المدينة ويعزز الشعور بالوطن والمجتمع. يعود الكثير من الناس من رادولفزيل إلى بلدتهم الأصلية لحضور هذا الحدث. وبالإضافة إلى الاحتفالات العلمانية، يظل الموكب الرسمي في هاوشرنسونتاج مع رفات القديسين الثلاثة أهم ما يميز هذا الحدث. وهناك عادة خاصة هي موكب الماء في موس، والذي يعود تاريخه إلى نذر تم قطعه في عام 1796. في ذلك الوقت، طلب سكان موس الحماية من طاعون الماشية في رادولفزيل. ومنذ عام 1926، وهم يقومون برحلة حج سنوية عبر البحيرة في قوارب مزينة بالورود في يوم اثنين الرب. يتم الترحيب بالحجاج بشكل احتفالي في رادولفزيل ويتم اصطحابهم إلى كنيسة السيدة العذراء.
URL:https://radolfzell1200.de/ar/veranstaltung/%d8%ad%d9%81%d9%84%d8%a9-%d9%85%d9%86%d8%b2%d9%84%d9%8a%d8%a9-2/
LOCATION:Radolfzell am Bodensee
ATTACH;FMTTYPE=image/jpeg:https://radolfzell1200.de/wp-content/uploads/sites/17/2026/04/event-a01c2c63-088f-4917-910c-0ce9beb5d5cc-14.jpg
END:VEVENT
BEGIN:VEVENT
DTSTART;TZID=Europe/Berlin:20260912T110000
DTEND;TZID=Europe/Berlin:20260913T230000
DTSTAMP:20260425T182327
CREATED:20260121T200805Z
LAST-MODIFIED:20260205T084111Z
UID:16396-1789210800-1789340400@radolfzell1200.de
SUMMARY:عطلة نهاية الأسبوع السنوية
DESCRIPTION:يقام مهرجان المدينة القديمة التقليدي يوم السبت، وتكتمل فعالياته بجزر زمنية مثيرة وأنشطة أخرى. أما يوم الأحد، فيتم التركيز على فقرات البرنامج التاريخية والدينية – بما في ذلك قداس الكنيسة والموكب وغيرها من الأنشطة الخاصة.  \nتم اختيار عطلة نهاية الأسبوع عمدًا لأن يوم 13 سبتمبر هو ذكرى وفاة الأسقف رادولف، مؤسس المدينة.   \nمزيد من المعلومات عن البرنامج: \nعطلة نهاية الأسبوع السنوية يوم السبت بما في ذلك مهرجان المدينة القديمة  \nيدعوك مهرجان مدينة رادولفزيل القديمة في يوم السبت من عطلة نهاية الأسبوع التذكارية لتجربة وسط المدينة التاريخية كملتقى حيوي مليء بالموسيقى والمتعة ومجموعة متنوعة من الأنشطة. تطلع إلى الموسيقى الحية ذات الأجواء الرائعة والمأكولات الإقليمية الشهية والعروض المثيرة لجميع أفراد العائلة وبرنامج ملون للأطفال. سواء كنت تتجول في أكشاك السوق، أو تتصفح أسواق السلع المستعملة، أو تتجول في القلعة النطاطة أو تحتفل مع الأصدقاء، فإن مهرجان المدينة القديمة يوفر فرصة مثالية لقضاء بعض الساعات الممتعة في أجواء فريدة من نوعها.يكتمل المهرجان بمحطات السفر عبر الزمن في وسط المدينة وفي شتاتجارتن. وهناك يستحضر فناني الأداء عصور رادولفزيل الماضية ويدعون الصغار والكبار للاستمتاع والاستكشاف والمشاركة.    \nعطلة نهاية الأسبوع اليوبيلية يوم الأحد: معرض تجاري جديد \nإن يوم الأحد من عطلة نهاية الأسبوع التذكارية هو يوم تاريخي وإيماني. يبدأ اليوم بشكل رسمي مع العرض الأول لقداس جديد في الساعة 9:15 صباحًا في الكاتدرائية. تم إنشاؤه خصيصًا لهذا المكان وهذه المناسبة الخاصة وللأشخاص الذين يرنمون ويؤلفون الموسيقى ويحتفلون بالعبادة معًا هنا. بعد ذلك، من الساعة 11 صباحًا إلى الساعة 5 مساءً، تدعوك محطات السفر عبر الزمن لتغوص في العصور المختلفة لرادولفزيل وتعيش تجربة التاريخ عن قرب.بالإضافة إلى ذلك، تنتظرك أنشطة تاريخية مثيرة سيتم تقديمها بمزيد من التفصيل على مدار العام – دعنا نفاجئك!    \nعطلة نهاية أسبوع اليوبيل يوم الأحد: حفل موسيقي نحاسي في مينستر \nواختتامًا لعطلة نهاية الأسبوع التذكارية، تنظم دار مونستر باوفيرين حفلاً موسيقيًا من الدرجة الأولى مع فرقة مونستر بلاتسرن. وقد تم تأمين عازفين منفردين من العيار الثقيل لهذا الحفل الموسيقي – عازف الترومبون أوي شرودي من رادولفزيل-ماركيلفينجن وعازف البوق راينهولد فريدريش. ومن خلال إشراك راينهولد فريدريش، أحد أبرز عازفي البوق في العالم في عصرنا الحالي، يعد هذا الحفل الموسيقي بتجربة استماع مميزة للغاية.  \nالتذاكر متوفرة من 16 مارس في بيت الكاهن في ساحة السوق وفي muensterbauverein-radolfzell.de
URL:https://radolfzell1200.de/ar/veranstaltung/%d8%b9%d8%b7%d9%84%d8%a9-%d9%86%d9%87%d8%a7%d9%8a%d8%a9-%d8%a7%d9%84%d8%a3%d8%b3%d8%a8%d9%88%d8%b9-%d8%a7%d9%84%d8%b3%d9%86%d9%88%d9%8a%d8%a9/
LOCATION:مدينة رادولفزيل القديمة على بحيرة كونستانس
ATTACH;FMTTYPE=image/jpeg:https://radolfzell1200.de/wp-content/uploads/sites/17/2026/04/event-a02a9fcd-4cad-4b62-bfec-a946324c4a0d-10.jpg
END:VEVENT
BEGIN:VEVENT
DTSTART;TZID=Europe/Berlin:20260912T110000
DTEND;TZID=Europe/Berlin:20260913T230000
DTSTAMP:20260425T182327
CREATED:20260422T230021Z
LAST-MODIFIED:20260423T212348Z
UID:33492-1789210800-1789340400@radolfzell1200.de
SUMMARY:عطلة نهاية الأسبوع السنوية
DESCRIPTION:يقام مهرجان المدينة القديمة التقليدي يوم السبت، وتكتمل فعالياته بجزر زمنية مثيرة وأنشطة أخرى. أما يوم الأحد، فيتم التركيز على فقرات البرنامج التاريخية والدينية – بما في ذلك قداس الكنيسة والموكب وغيرها من الأنشطة الخاصة.  \nتم اختيار عطلة نهاية الأسبوع عمدًا لأن يوم 13 سبتمبر هو ذكرى وفاة الأسقف رادولف، مؤسس المدينة.   \nمزيد من المعلومات عن البرنامج: \nعطلة نهاية الأسبوع السنوية يوم السبت بما في ذلك مهرجان المدينة القديمة  \nيدعوك مهرجان مدينة رادولفزيل القديمة في يوم السبت من عطلة نهاية الأسبوع التذكارية لتجربة وسط المدينة التاريخية كملتقى حيوي مليء بالموسيقى والمتعة ومجموعة متنوعة من الأنشطة. تطلع إلى الموسيقى الحية ذات الأجواء الرائعة والمأكولات الإقليمية الشهية والعروض المثيرة لجميع أفراد العائلة وبرنامج ملون للأطفال. سواء كنت تتجول في أكشاك السوق، أو تتصفح أسواق السلع المستعملة، أو تتجول في القلعة النطاطة أو تحتفل مع الأصدقاء، فإن مهرجان المدينة القديمة يوفر فرصة مثالية لقضاء بعض الساعات الممتعة في أجواء فريدة من نوعها.يكتمل المهرجان بمحطات السفر عبر الزمن في وسط المدينة وفي شتاتجارتن. وهناك يستحضر فناني الأداء عصور رادولفزيل الماضية ويدعون الصغار والكبار للاستمتاع والاستكشاف والمشاركة.    \nعطلة نهاية الأسبوع اليوبيلية يوم الأحد: معرض تجاري جديد \nإن يوم الأحد من عطلة نهاية الأسبوع التذكارية هو يوم تاريخي وإيماني. يبدأ اليوم بشكل رسمي مع العرض الأول لقداس جديد في الساعة 9:15 صباحًا في الكاتدرائية. تم إنشاؤه خصيصًا لهذا المكان وهذه المناسبة الخاصة وللأشخاص الذين يرنمون ويؤلفون الموسيقى ويحتفلون بالعبادة معًا هنا. بعد ذلك، من الساعة 11 صباحًا إلى الساعة 5 مساءً، تدعوك محطات السفر عبر الزمن لتغوص في العصور المختلفة لرادولفزيل وتعيش تجربة التاريخ عن قرب.بالإضافة إلى ذلك، تنتظرك أنشطة تاريخية مثيرة سيتم تقديمها بمزيد من التفصيل على مدار العام – دعنا نفاجئك!    \nعطلة نهاية أسبوع اليوبيل يوم الأحد: حفل موسيقي نحاسي في مينستر \nواختتامًا لعطلة نهاية الأسبوع التذكارية، تنظم دار مونستر باوفيرين حفلاً موسيقيًا من الدرجة الأولى مع فرقة مونستر بلاتسرن. وقد تم تأمين عازفين منفردين من العيار الثقيل لهذا الحفل الموسيقي – عازف الترومبون أوي شرودي من رادولفزيل-ماركيلفينجن وعازف البوق راينهولد فريدريش. ومن خلال إشراك راينهولد فريدريش، أحد أبرز عازفي البوق في العالم في عصرنا الحالي، يعد هذا الحفل الموسيقي بتجربة استماع مميزة للغاية.  \nالتذاكر متوفرة من 16 مارس في بيت الكاهن في ساحة السوق وفي muensterbauverein-radolfzell.de
URL:https://radolfzell1200.de/ar/veranstaltung/%d8%b9%d8%b7%d9%84%d8%a9-%d9%86%d9%87%d8%a7%d9%8a%d8%a9-%d8%a7%d9%84%d8%a3%d8%b3%d8%a8%d9%88%d8%b9-%d8%a7%d9%84%d8%b3%d9%86%d9%88%d9%8a%d8%a9-2/
LOCATION:مدينة رادولفزيل القديمة على بحيرة كونستانس
ATTACH;FMTTYPE=image/jpeg:https://radolfzell1200.de/wp-content/uploads/sites/17/2026/04/event-a02a9fcd-4cad-4b62-bfec-a946324c4a0d-12.jpg
END:VEVENT
END:VCALENDAR